BEGIN:VCALENDAR
VERSION:2.0
PRODID:-//www.oberhuenigen.ch//NONSGML kigkonsult.se ICALCREATOR_VERSION//
CALSCALE:GREGORIAN
METHOD:PUBLISH
X-WR-TIMEZONE','EUROPE/BERLIN:
BEGIN:VEVENT
UID:20260420T105601CEST-4709bKXzlv@www.oberhuenigen.ch
DTSTAMP:20260420T085601Z
DESCRIPTION:Klicken Sie auf den folgenden Link\, um weitere Informationen z
 ur Veranstaltung zu erhalten:\nhttp://www.oberhuenigen.ch/oberhuenigen/ver
 anstaltungen/detail/detail.php?i=80
DTSTART:20190507T000000
LOCATION:bei der Turnhalle Zäziwil
SUMMARY:Maibummel - Frauenverein Zäziwil & Umgebung
END:VEVENT
END:VCALENDAR
